BEGIN:VCALENDAR
VERSION:2.0
PRODID:icalendar-ruby
CALSCALE:GREGORIAN
METHOD:PUBLISH
BEGIN:VEVENT
DTSTAMP:20260420T105653Z
UID:8-197871@rendezvous.church
DTSTART:20261031T163000Z
DTEND:20261031T173000Z
CLASS:PUBLIC
CREATED:20260420T015021
DESCRIPTION:Come Worship with us!
LAST-MODIFIED:20260420T015021
LOCATION:Rendezvous Church
SUMMARY:Worship Service
URL;VALUE=URI:https://www.rendezvous.church/events/worship-service--8/2026-
 10-31
END:VEVENT
END:VCALENDAR
