BEGIN:VCALENDAR
VERSION:2.0
PRODID:icalendar-ruby
CALSCALE:GREGORIAN
METHOD:PUBLISH
BEGIN:VEVENT
DTSTAMP:20260420T045445Z
UID:8-197828@rendezvous.church
DTSTART:20261003T163000Z
DTEND:20261003T173000Z
CLASS:PUBLIC
CREATED:20260419T221258
DESCRIPTION:Come Worship with us!
LAST-MODIFIED:20260419T221258
LOCATION:Rendezvous Church
SUMMARY:Worship Service
URL;VALUE=URI:https://www.rendezvous.church/events/worship-service--8/2026-
 10-03
END:VEVENT
END:VCALENDAR
