BEGIN:VCALENDAR
VERSION:2.0
PRODID:icalendar-ruby
CALSCALE:GREGORIAN
METHOD:PUBLISH
BEGIN:VEVENT
DTSTAMP:20260420T031902Z
UID:8-197788@rendezvous.church
DTSTART:20260926T163000Z
DTEND:20260926T173000Z
CLASS:PUBLIC
CREATED:20260419T183552
DESCRIPTION:Come Worship with us!
LAST-MODIFIED:20260419T183552
LOCATION:Rendezvous Church
SUMMARY:Worship Service
URL;VALUE=URI:https://www.rendezvous.church/events/worship-service--8/2026-
 09-26
END:VEVENT
END:VCALENDAR
